BEGIN:VCALENDAR
CALSCALE:GREGORIAN
VERSION:2.0
PRODID:-//Elixir ICalendar//Elixir ICalendar//EN
BEGIN:VEVENT
DTEND:20230905T160000Z
DTSTART:20230905T070000Z
LOCATION:Studio Industrie Park Kleefse Waard\, Westervoortsedijk 73\, 6827 AV Arnhem\, The Netherlands
SUMMARY:Sustainable Electrical Energy Centre of Expertise
END:VEVENT
END:VCALENDAR
