BEGIN:VCALENDAR
CALSCALE:GREGORIAN
VERSION:2.0
PRODID:-//Elixir ICalendar//Elixir ICalendar//EN
BEGIN:VEVENT
DTEND:20241017T100000Z
DTSTART:20241016T100000Z
LOCATION:CCIB Barcelona\, Spain
SUMMARY:The Business Booster (TBB)
END:VEVENT
END:VCALENDAR
