BEGIN:VCALENDAR
CALSCALE:GREGORIAN
VERSION:2.0
PRODID:-//Elixir ICalendar//Elixir ICalendar//EN
BEGIN:VEVENT
DTEND:20231012T180000Z
DTSTART:20231010T060000Z
LOCATION:Brabanthallen\,\nDiezekade 2\,\n5222 AK 's-Hertogenbosch\,\nThe Netherlands\,
SUMMARY:Vakbeurs Energie
END:VEVENT
END:VCALENDAR
