BEGIN:VCALENDAR
CALSCALE:GREGORIAN
VERSION:2.0
PRODID:-//Elixir ICalendar//Elixir ICalendar//EN
BEGIN:VEVENT
DTEND:20250605T170000Z
DTSTART:20250603T070000Z
LOCATION:Stuttgart\, Germany
SUMMARY:Energy Storage Summit Germany
END:VEVENT
END:VCALENDAR
